BEGIN:VCALENDAR
VERSION:2.0
PRODID:-//Découvrir Veules-les-Roses - ECPv6.15.20//NONSGML v1.0//EN
CALSCALE:GREGORIAN
METHOD:PUBLISH
X-ORIGINAL-URL:https://tourisme.veules-les-roses.fr
X-WR-CALDESC:Évènements pour Découvrir Veules-les-Roses
REFRESH-INTERVAL;VALUE=DURATION:PT1H
X-Robots-Tag:noindex
X-PUBLISHED-TTL:PT1H
BEGIN:VTIMEZONE
TZID:Europe/Paris
BEGIN:DAYLIGHT
TZOFFSETFROM:+0100
TZOFFSETTO:+0200
TZNAME:CEST
DTSTART:20250330T010000
END:DAYLIGHT
BEGIN:STANDARD
TZOFFSETFROM:+0200
TZOFFSETTO:+0100
TZNAME:CET
DTSTART:20251026T010000
END:STANDARD
BEGIN:DAYLIGHT
TZOFFSETFROM:+0100
TZOFFSETTO:+0200
TZNAME:CEST
DTSTART:20260329T010000
END:DAYLIGHT
BEGIN:STANDARD
TZOFFSETFROM:+0200
TZOFFSETTO:+0100
TZNAME:CET
DTSTART:20261025T010000
END:STANDARD
BEGIN:DAYLIGHT
TZOFFSETFROM:+0100
TZOFFSETTO:+0200
TZNAME:CEST
DTSTART:20270328T010000
END:DAYLIGHT
BEGIN:STANDARD
TZOFFSETFROM:+0200
TZOFFSETTO:+0100
TZNAME:CET
DTSTART:20271031T010000
END:STANDARD
END:VTIMEZONE
BEGIN:VEVENT
DTSTART;VALUE=DATE:20260404
DTEND;VALUE=DATE:20260428
DTSTAMP:20260424T124515
CREATED:20240327T153951Z
LAST-MODIFIED:20260331T134115Z
UID:6273-1775260800-1777334399@tourisme.veules-les-roses.fr
SUMMARY:Chasse aux oeufs
DESCRIPTION:La chasse aux œufs est de retour !\nA partir d’aujourd’hui et jusqu’au 27 avril\, participez à la chasse aux œufs ! \n9 images d’œufs colorés se sont cachés dans Veules\, à vous de les retrouver ! \n\nNoter les lettres associées à chacun des œufs\nRetrouver le mot mystère ! Attention\, deux instrus se sont glissés parmi les œufs\nDéposez votre bulletin dans la boîte aux lettres de la mairie ou par mail (communication@veules-les-roses.fr) avant le 27/04\n\nTélécharger le bulletin d’inscription \nOuvrez l’œil !
URL:https://tourisme.veules-les-roses.fr/event/chasse-aux-oeufs/
CATEGORIES:Animations
ATTACH;FMTTYPE=image/png:https://tourisme.veules-les-roses.fr/wp-content/uploads/2024/03/CHASSE-AUX-OEUFS-1.png
ORGANIZER;CN="Mairie":MAILTO:mairie@veules-les-roses.fr
END:VEVENT
BEGIN:VEVENT
DTSTART;TZID=Europe/Paris:20260430T143000
DTEND;TZID=Europe/Paris:20260430T163000
DTSTAMP:20260424T124515
CREATED:20260107T090510Z
LAST-MODIFIED:20260107T090510Z
UID:6718-1777559400-1777566600@tourisme.veules-les-roses.fr
SUMMARY:Permanences : distribution des bacs jaunes (sacs jaunes) et des sacs translucides
DESCRIPTION:A compter du 2 février 2026 – Collecte en porte à porte :\n\n\n\n\nUtilisation de bacs jaunes (ou sacs jaunes) pour les déchets recyclables\n\n\n\nRemplacement des sacs poubelles noirs opaques par des sacs translucides\n\n\n\n\nDernière permanence de distribution : \n\n\n\nJeudi 30 avril 2026 de 14h30 à 16h30\n\n\n\n\nAttention : ce seront les deux dernières permanences pour récupérer votre bac/sacs jaunes ainsi que vos sacs translucides. Après ces dates\, votre dotation devra être retirée auprès de la Communauté de Communes de la Côte d’Albâtre. \n\n\n\nLieu de retrait :  \n\n\n\nService peinture – 34bis\, voie Charles de Gaulle \n\n\n\nPour qui ?  \n\n\n\nTous les habitants\, qu’ils soient locataires ou propriétaires. \n\n\n\nUn justificatif de domicile sera demandé\, même si vous venez récupérer un bac ou des sacs pour un proche. \n\n\n\nVous ne pouvez pas venir ? \n\n\n\nVoisins\, amis\,… merci de donner votre justificatif de domicile à une personne de confiance afin qu’elle puisse récupérer votre bac et
URL:https://tourisme.veules-les-roses.fr/event/permanences-distribution-des-bacs-jaunes-sacs-jaunes-et-des-sacs-translucides-2/
LOCATION:Service peinture\, 34bis\, voie Charles de Gaulle\, VEULES-LES-ROSES\, 76980\, France
CATEGORIES:Pratique
ATTACH;FMTTYPE=image/png:https://tourisme.veules-les-roses.fr/wp-content/uploads/2026/01/1.png
ORGANIZER;CN="Mairie":MAILTO:mairie@veules-les-roses.fr
END:VEVENT
END:VCALENDAR