BEGIN:VCALENDAR
VERSION:2.0
PRODID:-//Découvrir Veules-les-Roses - ECPv6.15.20//NONSGML v1.0//EN
CALSCALE:GREGORIAN
METHOD:PUBLISH
X-ORIGINAL-URL:https://tourisme.veules-les-roses.fr
X-WR-CALDESC:Évènements pour Découvrir Veules-les-Roses
REFRESH-INTERVAL;VALUE=DURATION:PT1H
X-Robots-Tag:noindex
X-PUBLISHED-TTL:PT1H
BEGIN:VTIMEZONE
TZID:Europe/Paris
BEGIN:DAYLIGHT
TZOFFSETFROM:+0100
TZOFFSETTO:+0200
TZNAME:CEST
DTSTART:20250330T010000
END:DAYLIGHT
BEGIN:STANDARD
TZOFFSETFROM:+0200
TZOFFSETTO:+0100
TZNAME:CET
DTSTART:20251026T010000
END:STANDARD
BEGIN:DAYLIGHT
TZOFFSETFROM:+0100
TZOFFSETTO:+0200
TZNAME:CEST
DTSTART:20260329T010000
END:DAYLIGHT
BEGIN:STANDARD
TZOFFSETFROM:+0200
TZOFFSETTO:+0100
TZNAME:CET
DTSTART:20261025T010000
END:STANDARD
BEGIN:DAYLIGHT
TZOFFSETFROM:+0100
TZOFFSETTO:+0200
TZNAME:CEST
DTSTART:20270328T010000
END:DAYLIGHT
BEGIN:STANDARD
TZOFFSETFROM:+0200
TZOFFSETTO:+0100
TZNAME:CET
DTSTART:20271031T010000
END:STANDARD
END:VTIMEZONE
BEGIN:VEVENT
DTSTART;VALUE=DATE:20260607
DTEND;VALUE=DATE:20260608
DTSTAMP:20260424T153909
CREATED:20190402T084645Z
LAST-MODIFIED:20260107T093730Z
UID:3985-1780790400-1780876799@tourisme.veules-les-roses.fr
SUMMARY:Vide-greniers
DESCRIPTION:L’association TTV Culture et Loisirs organise un vide-grenier le dimanche 7 juin dans les rues principales de Veules. \nRéservation obligatoire au 07 80 08 66 89  des emplacements.  \nExclusivement réservé aux particuliers. \nAucun professionnel ne sera accepté. \nLes véhicules seront garés à l’extérieur de la zone d’exposition.
URL:https://tourisme.veules-les-roses.fr/event/vide-grenier/
LOCATION:rues principales\, rue docteur pierre girard\, Veules-Les-Roses\, 76980\, France
CATEGORIES:Animations
ATTACH;FMTTYPE=image/jpeg:https://tourisme.veules-les-roses.fr/wp-content/uploads/2019/04/banniere_vide_grenier.jpg
ORGANIZER;CN="Association TTV Culture et Loisirs":MAILTO:direction.ttv@gmail.com
END:VEVENT
BEGIN:VEVENT
DTSTART;VALUE=DATE:20260620
DTEND;VALUE=DATE:20260622
DTSTAMP:20260424T153909
CREATED:20180202T094828Z
LAST-MODIFIED:20260107T094802Z
UID:3349-1781913600-1782086399@tourisme.veules-les-roses.fr
SUMMARY:La Rose en Fête
DESCRIPTION:Le rendez-vous de tous les passionnés de jardins et amateurs de roses !\nHorticulteurs\, pépiniéristes\, rosiéristes et autres professionnels du métier sont réunis pour vous présenter leurs nombreuses productions mais aussi vous prodiguer leurs conseils. Néophytes ou amateurs éclairés\, la Rose en Fête est un lieu pour tous. \n[Programme à venir]\n  \nInformations pratiques\nHoraires : Samedi de 10h à 19h / Dimanche de 10h à 18h\nLieux : Cour du Vieux Château\, Clos St Vincent et place de la Mairie.\nEntrée libre\nRestauration sur place  \n 
URL:https://tourisme.veules-les-roses.fr/event/la-rose-en-fete/
LOCATION:Cour du vieux château
CATEGORIES:Animations
ATTACH;FMTTYPE=image/jpeg:https://tourisme.veules-les-roses.fr/wp-content/uploads/2018/02/banniere_rose_fete.jpg
ORGANIZER;CN="Mairie":MAILTO:mairie@veules-les-roses.fr
END:VEVENT
BEGIN:VEVENT
DTSTART;VALUE=DATE:20260625
DTEND;VALUE=DATE:20260703
DTSTAMP:20260424T153909
CREATED:20260107T094852Z
LAST-MODIFIED:20260107T094852Z
UID:6724-1782345600-1783036799@tourisme.veules-les-roses.fr
SUMMARY:Exposition - les Arts du Littoral
DESCRIPTION:[Programme à venir]
URL:https://tourisme.veules-les-roses.fr/event/exposition-les-arts-du-littoral-3/
LOCATION:Mairie – chapelle\, 7 avenue du docteur michel\, Veules-Les-Roses\, 76980\, France
CATEGORIES:Animations,Expositions
ATTACH;FMTTYPE=image/png:https://tourisme.veules-les-roses.fr/wp-content/uploads/2025/05/banniere_expo_chapelle_2025.png
ORGANIZER;CN="Association des Arts du Littoral":MAILTO:alcveules76@gmail.com
END:VEVENT
BEGIN:VEVENT
DTSTART;TZID=Europe/Paris:20260627T183000
DTEND;TZID=Europe/Paris:20260627T235900
DTSTAMP:20260424T153909
CREATED:20240604T103930Z
LAST-MODIFIED:20260107T094956Z
UID:6347-1782585000-1782604740@tourisme.veules-les-roses.fr
SUMMARY:Les Rues Musicales
DESCRIPTION:[Programme à venir]
URL:https://tourisme.veules-les-roses.fr/event/les-rues-musicales/
LOCATION:rues principales\, rue docteur pierre girard\, Veules-Les-Roses\, 76980\, France
CATEGORIES:Animations
ATTACH;FMTTYPE=image/png:https://tourisme.veules-les-roses.fr/wp-content/uploads/2023/06/Design-sans-titre-54.png
END:VEVENT
END:VCALENDAR