BEGIN:VCALENDAR
VERSION:2.0
PRODID:-//Découvrir Veules-les-Roses - ECPv6.15.20//NONSGML v1.0//EN
CALSCALE:GREGORIAN
METHOD:PUBLISH
X-WR-CALNAME:Découvrir Veules-les-Roses
X-ORIGINAL-URL:https://tourisme.veules-les-roses.fr
X-WR-CALDESC:Évènements pour Découvrir Veules-les-Roses
REFRESH-INTERVAL;VALUE=DURATION:PT1H
X-Robots-Tag:noindex
X-PUBLISHED-TTL:PT1H
BEGIN:VTIMEZONE
TZID:Europe/Paris
BEGIN:DAYLIGHT
TZOFFSETFROM:+0100
TZOFFSETTO:+0200
TZNAME:CEST
DTSTART:20250330T010000
END:DAYLIGHT
BEGIN:STANDARD
TZOFFSETFROM:+0200
TZOFFSETTO:+0100
TZNAME:CET
DTSTART:20251026T010000
END:STANDARD
BEGIN:DAYLIGHT
TZOFFSETFROM:+0100
TZOFFSETTO:+0200
TZNAME:CEST
DTSTART:20260329T010000
END:DAYLIGHT
BEGIN:STANDARD
TZOFFSETFROM:+0200
TZOFFSETTO:+0100
TZNAME:CET
DTSTART:20261025T010000
END:STANDARD
BEGIN:DAYLIGHT
TZOFFSETFROM:+0100
TZOFFSETTO:+0200
TZNAME:CEST
DTSTART:20270328T010000
END:DAYLIGHT
BEGIN:STANDARD
TZOFFSETFROM:+0200
TZOFFSETTO:+0100
TZNAME:CET
DTSTART:20271031T010000
END:STANDARD
END:VTIMEZONE
BEGIN:VEVENT
DTSTART;VALUE=DATE:20260507
DTEND;VALUE=DATE:20260515
DTSTAMP:20260424T153954
CREATED:20260107T092130Z
LAST-MODIFIED:20260107T092130Z
UID:6720-1778112000-1778803199@tourisme.veules-les-roses.fr
SUMMARY:Exposition - les Arts du Littoral
DESCRIPTION:[Programme à venir]
URL:https://tourisme.veules-les-roses.fr/event/exposition-les-arts-du-littoral-2/
LOCATION:Mairie – chapelle\, 7 avenue du docteur michel\, Veules-Les-Roses\, 76980\, France
CATEGORIES:Animations,Expositions
ATTACH;FMTTYPE=image/png:https://tourisme.veules-les-roses.fr/wp-content/uploads/2025/05/banniere_expo_chapelle_2025.png
ORGANIZER;CN="Association des Arts du Littoral":MAILTO:alcveules76@gmail.com
END:VEVENT
END:VCALENDAR