BEGIN:VCALENDAR
VERSION:2.0
PRODID:-//Découvrir Veules-les-Roses - ECPv6.15.20//NONSGML v1.0//EN
CALSCALE:GREGORIAN
METHOD:PUBLISH
X-ORIGINAL-URL:https://tourisme.veules-les-roses.fr
X-WR-CALDESC:Évènements pour Découvrir Veules-les-Roses
REFRESH-INTERVAL;VALUE=DURATION:PT1H
X-Robots-Tag:noindex
X-PUBLISHED-TTL:PT1H
BEGIN:VTIMEZONE
TZID:Europe/Paris
BEGIN:DAYLIGHT
TZOFFSETFROM:+0100
TZOFFSETTO:+0200
TZNAME:CEST
DTSTART:20250330T010000
END:DAYLIGHT
BEGIN:STANDARD
TZOFFSETFROM:+0200
TZOFFSETTO:+0100
TZNAME:CET
DTSTART:20251026T010000
END:STANDARD
BEGIN:DAYLIGHT
TZOFFSETFROM:+0100
TZOFFSETTO:+0200
TZNAME:CEST
DTSTART:20260329T010000
END:DAYLIGHT
BEGIN:STANDARD
TZOFFSETFROM:+0200
TZOFFSETTO:+0100
TZNAME:CET
DTSTART:20261025T010000
END:STANDARD
BEGIN:DAYLIGHT
TZOFFSETFROM:+0100
TZOFFSETTO:+0200
TZNAME:CEST
DTSTART:20270328T010000
END:DAYLIGHT
BEGIN:STANDARD
TZOFFSETFROM:+0200
TZOFFSETTO:+0100
TZNAME:CET
DTSTART:20271031T010000
END:STANDARD
END:VTIMEZONE
BEGIN:VEVENT
DTSTART;TZID=Europe/Paris:20260222T090000
DTEND;TZID=Europe/Paris:20260222T180000
DTSTAMP:20260424T173958
CREATED:20171205T150039Z
LAST-MODIFIED:20260209T153349Z
UID:3189-1771750800-1771783200@tourisme.veules-les-roses.fr
SUMMARY:Salon Toutes Collections
DESCRIPTION:L’association TTV Culture et Loisirs organise son 16ème Salon Toutes Collections le dimanche 22 février à la salle Michel-Frager de Veules les Roses de : \ntimbres\, livres\, muselets\, horlogerie\, poupée\, cartes postales\, BD\, disques \, monnaies\, capsules\, cendriers de marque\, pins\, fèves\, livres brocante\, médailles\, enveloppes 1er jour\, photos\, miniatures céramique\, poupées\, santons\, chats\, jouets\, figurines starwars\, jeux des années 60\, voitures\, bijoux … et une impressionnante collection de porte-clés. \n  \nInformations pratiques : \n\nEntrée gratuite\nde 9h à 18h
URL:https://tourisme.veules-les-roses.fr/event/salon-toutes-collections/
LOCATION:Salle Polyvalente Michel-Frager\, 30 Rue du Docteur Pierre Girard\, Veules-Les-Roses\, 76980\, France
CATEGORIES:Animations
ATTACH;FMTTYPE=image/jpeg:https://tourisme.veules-les-roses.fr/wp-content/uploads/2017/12/banniere_salon_tte_collection.jpg
ORGANIZER;CN="Association TTV Culture et Loisirs":MAILTO:direction.ttv@gmail.com
END:VEVENT
END:VCALENDAR