BEGIN:VCALENDAR
VERSION:2.0
PRODID:-//Découvrir Veules-les-Roses - ECPv6.15.20//NONSGML v1.0//EN
CALSCALE:GREGORIAN
METHOD:PUBLISH
X-ORIGINAL-URL:https://tourisme.veules-les-roses.fr
X-WR-CALDESC:Évènements pour Découvrir Veules-les-Roses
REFRESH-INTERVAL;VALUE=DURATION:PT1H
X-Robots-Tag:noindex
X-PUBLISHED-TTL:PT1H
BEGIN:VTIMEZONE
TZID:Europe/Paris
BEGIN:DAYLIGHT
TZOFFSETFROM:+0100
TZOFFSETTO:+0200
TZNAME:CEST
DTSTART:20220327T010000
END:DAYLIGHT
BEGIN:STANDARD
TZOFFSETFROM:+0200
TZOFFSETTO:+0100
TZNAME:CET
DTSTART:20221030T010000
END:STANDARD
BEGIN:DAYLIGHT
TZOFFSETFROM:+0100
TZOFFSETTO:+0200
TZNAME:CEST
DTSTART:20230326T010000
END:DAYLIGHT
BEGIN:STANDARD
TZOFFSETFROM:+0200
TZOFFSETTO:+0100
TZNAME:CET
DTSTART:20231029T010000
END:STANDARD
BEGIN:DAYLIGHT
TZOFFSETFROM:+0100
TZOFFSETTO:+0200
TZNAME:CEST
DTSTART:20240331T010000
END:DAYLIGHT
BEGIN:STANDARD
TZOFFSETFROM:+0200
TZOFFSETTO:+0100
TZNAME:CET
DTSTART:20241027T010000
END:STANDARD
END:VTIMEZONE
BEGIN:VEVENT
DTSTART;TZID=Europe/Paris:20231125T180000
DTEND;TZID=Europe/Paris:20231125T233000
DTSTAMP:20260424T111619
CREATED:20231114T155838Z
LAST-MODIFIED:20231114T155838Z
UID:6197-1700935200-1700955000@tourisme.veules-les-roses.fr
SUMMARY:Concert Kokoshka
DESCRIPTION:
URL:https://tourisme.veules-les-roses.fr/event/concert-kokoshka/
LOCATION:Salle Polyvalente Michel-Frager\, 30 Rue du Docteur Pierre Girard\, Veules-Les-Roses\, 76980\, France
CATEGORIES:Animations
ATTACH;FMTTYPE=image/png:https://tourisme.veules-les-roses.fr/wp-content/uploads/2023/11/ARRete.png
ORGANIZER;CN="Conservatoire Musique et Danse de la Communaut%C3%A9 de Communes de la C%C3%B4te d'Alb%C3%A2tre":MAILTO:secretariat.conservatoire@cote-albatre.com
END:VEVENT
END:VCALENDAR