BEGIN:VCALENDAR
VERSION:2.0
PRODID:-//Découvrir Veules-les-Roses - ECPv6.15.20//NONSGML v1.0//EN
CALSCALE:GREGORIAN
METHOD:PUBLISH
X-WR-CALNAME:Découvrir Veules-les-Roses
X-ORIGINAL-URL:https://tourisme.veules-les-roses.fr
X-WR-CALDESC:Évènements pour Découvrir Veules-les-Roses
REFRESH-INTERVAL;VALUE=DURATION:PT1H
X-Robots-Tag:noindex
X-PUBLISHED-TTL:PT1H
BEGIN:VTIMEZONE
TZID:Europe/Paris
BEGIN:DAYLIGHT
TZOFFSETFROM:+0100
TZOFFSETTO:+0200
TZNAME:CEST
DTSTART:20220327T010000
END:DAYLIGHT
BEGIN:STANDARD
TZOFFSETFROM:+0200
TZOFFSETTO:+0100
TZNAME:CET
DTSTART:20221030T010000
END:STANDARD
BEGIN:DAYLIGHT
TZOFFSETFROM:+0100
TZOFFSETTO:+0200
TZNAME:CEST
DTSTART:20230326T010000
END:DAYLIGHT
BEGIN:STANDARD
TZOFFSETFROM:+0200
TZOFFSETTO:+0100
TZNAME:CET
DTSTART:20231029T010000
END:STANDARD
BEGIN:DAYLIGHT
TZOFFSETFROM:+0100
TZOFFSETTO:+0200
TZNAME:CEST
DTSTART:20240331T010000
END:DAYLIGHT
BEGIN:STANDARD
TZOFFSETFROM:+0200
TZOFFSETTO:+0100
TZNAME:CET
DTSTART:20241027T010000
END:STANDARD
END:VTIMEZONE
BEGIN:VEVENT
DTSTART;VALUE=DATE:20230914
DTEND;VALUE=DATE:20230922
DTSTAMP:20260424T142241
CREATED:20230713T081127Z
LAST-MODIFIED:20230713T081127Z
UID:6116-1694649600-1695340799@tourisme.veules-les-roses.fr
SUMMARY:Exposition "il était une fôret..."
DESCRIPTION:« Je pratique la peinture à l’huile et ai d’emblée opté pour une démarche figurative empreinte d’une atmosphère  »d’étrangeté poétique  ». Je trouve mes sujets essentiellement dans la nature :  la simple beauté d’un arbre\, la paix d’un sous-bois\, les couleurs exaltantes d’une forêt en automne\, le scintillement des végétaux exposés aux rayons du soleil\, la multiplicité inspirante des rochers que le phénomène de paréidolie nous engage à y découvrir des formes imaginaires…« . C.DHOTE
URL:https://tourisme.veules-les-roses.fr/event/exposition-il-etait-une-foret/
LOCATION:Mairie – chapelle\, 7 avenue du docteur michel\, Veules-Les-Roses\, 76980\, France
CATEGORIES:Expositions
ATTACH;FMTTYPE=image/jpeg:https://tourisme.veules-les-roses.fr/wp-content/uploads/2023/07/banniere_expo-dhote-septembre-23.jpg
END:VEVENT
BEGIN:VEVENT
DTSTART;TZID=Europe/Paris:20230923T203000
DTEND;TZID=Europe/Paris:20230923T223000
DTSTAMP:20260424T142241
CREATED:20230523T122807Z
LAST-MODIFIED:20230601T075453Z
UID:5922-1695501000-1695508200@tourisme.veules-les-roses.fr
SUMMARY:Monsieur de Maupassant - Quelles nouvelles
DESCRIPTION:Un spectacle avant tout drôle et axé sur la femme thème éternel et un des favoris de Maupassant ! \nSpectacle construit à partir de nouvelles de l’auteur adaptées pour le théâtre\, mêle théâtre et vidéo avec les modules suivants : \n\n« JE ME PRESENTE » – Guy de Maupassant se présente aux spectateurs.\n« SOUVENIR » – Un couple s’est perdu en forêt et la femme du couple est très colère. Ils vont alors rencontrer Guy de Maupassant…\n« LE SIGNE » – Une baronne de la haute bourgeoisie aperçoit de la fenêtre de son appartement une femme assise à une fenêtre de l’immeuble de l’autre côté de la rue faire un signe à certains passants. Certains d’entre eux s’arrêtent et entrent alors dans l’immeuble. Elle se demande si elle serait capable de le faire… ce signe ! \n« HISTOIRE DU VIEUX TEMPS » – Par un triste soir d’hiver\, un comte rend visite à une marquise sa voisine. Ils évoquent ensemble leur jeunesse. Leurs narrations vont les conduire à un grand moment d’émotion.\n« LES TOMBALES » – Un promeneur dans un cimetière rencontre une veuve de guerre éplorée et inconsolable. Inconsolable\, vraiment ?!\n« LA PARURE » – Elle rêvait d’un grand mariage et a épousé un petit fonctionnaire. Frustrée\, déçue par cette vie grise et terne\, elle va avoir l’occasion de briller en société. Mais à quel prix ?\n« JOSEPH » – Deux femmes de la haute bourgeoisie sont reléguées par leurs maris dans une petite ville d’eau déserte de Normandie. Ces derniers sont partis pour Paris les ayant abandonnées. Elles s’ennuient et ont un peu trop bu pour tromper leur ennui…\n\nInformations pratiques : \n\nReprésentation le samedi 23/09/2023 à 20h30 et dimanche 24/09/2023 à 15h\nLieu : salle Michel-Frager\nTarifs : tarif plein : 10€ / tarif réduit : 5€
URL:https://tourisme.veules-les-roses.fr/event/monsieur-de-maupassant-quelles-nouvelles/
LOCATION:Salle Polyvalente Michel-Frager\, 30 Rue du Docteur Pierre Girard\, Veules-Les-Roses\, 76980\, France
CATEGORIES:Animations
ATTACH;FMTTYPE=image/jpeg:https://tourisme.veules-les-roses.fr/wp-content/uploads/2023/05/banniere_spectacle.jpg
END:VEVENT
END:VCALENDAR