BEGIN:VCALENDAR
VERSION:2.0
PRODID:-//Découvrir Veules-les-Roses - ECPv6.15.20//NONSGML v1.0//EN
CALSCALE:GREGORIAN
METHOD:PUBLISH
X-ORIGINAL-URL:https://tourisme.veules-les-roses.fr
X-WR-CALDESC:Évènements pour Découvrir Veules-les-Roses
REFRESH-INTERVAL;VALUE=DURATION:PT1H
X-Robots-Tag:noindex
X-PUBLISHED-TTL:PT1H
BEGIN:VTIMEZONE
TZID:Europe/Paris
BEGIN:DAYLIGHT
TZOFFSETFROM:+0100
TZOFFSETTO:+0200
TZNAME:CEST
DTSTART:20220327T010000
END:DAYLIGHT
BEGIN:STANDARD
TZOFFSETFROM:+0200
TZOFFSETTO:+0100
TZNAME:CET
DTSTART:20221030T010000
END:STANDARD
BEGIN:DAYLIGHT
TZOFFSETFROM:+0100
TZOFFSETTO:+0200
TZNAME:CEST
DTSTART:20230326T010000
END:DAYLIGHT
BEGIN:STANDARD
TZOFFSETFROM:+0200
TZOFFSETTO:+0100
TZNAME:CET
DTSTART:20231029T010000
END:STANDARD
BEGIN:DAYLIGHT
TZOFFSETFROM:+0100
TZOFFSETTO:+0200
TZNAME:CEST
DTSTART:20240331T010000
END:DAYLIGHT
BEGIN:STANDARD
TZOFFSETFROM:+0200
TZOFFSETTO:+0100
TZNAME:CET
DTSTART:20241027T010000
END:STANDARD
END:VTIMEZONE
BEGIN:VEVENT
DTSTART;VALUE=DATE:20230714
DTEND;VALUE=DATE:20230722
DTSTAMP:20260424T191702
CREATED:20230710T122020Z
LAST-MODIFIED:20230710T122053Z
UID:6108-1689292800-1689983999@tourisme.veules-les-roses.fr
SUMMARY:Exposition "Les bestioles de Guy"
DESCRIPTION:
URL:https://tourisme.veules-les-roses.fr/event/exposition-les-bestioles-de-guy/
LOCATION:Galerie les Arts du Littoral Cauchois\, 24 rue du Docteur Pierre Girard\, Veules-les-Roses\, France
CATEGORIES:Expositions
ATTACH;FMTTYPE=image/png:https://tourisme.veules-les-roses.fr/wp-content/uploads/2023/07/banniere_expo_galerie_ALC.png
END:VEVENT
BEGIN:VEVENT
DTSTART;TZID=Europe/Paris:20230719T140000
DTEND;TZID=Europe/Paris:20230719T160000
DTSTAMP:20260424T191702
CREATED:20230630T141339Z
LAST-MODIFIED:20230630T141339Z
UID:6063-1689775200-1689782400@tourisme.veules-les-roses.fr
SUMMARY:VitaFédé 76
DESCRIPTION:
URL:https://tourisme.veules-les-roses.fr/event/vitafede-76/
LOCATION:Front de Mer\, 1 place Melingue\, Veules-les-Roses\, 76980\, France
CATEGORIES:Animations
ATTACH;FMTTYPE=image/png:https://tourisme.veules-les-roses.fr/wp-content/uploads/2023/06/Design-sans-titre-62.png
END:VEVENT
BEGIN:VEVENT
DTSTART;TZID=Europe/Paris:20230719T190000
DTEND;TZID=Europe/Paris:20230721T235900
DTSTAMP:20260424T191702
CREATED:20230605T183709Z
LAST-MODIFIED:20230605T183709Z
UID:6019-1689793200-1689983940@tourisme.veules-les-roses.fr
SUMMARY:Festival Coef 121
DESCRIPTION: 
URL:https://tourisme.veules-les-roses.fr/event/festival-coef-121/
LOCATION:Jardin Saint Nicolas
CATEGORIES:Animations
ATTACH;FMTTYPE=image/png:https://tourisme.veules-les-roses.fr/wp-content/uploads/2023/06/Design-sans-titre-41.png
ORGANIZER;CN="Coef. 121":MAILTO:coef121.76@gmail.com
END:VEVENT
END:VCALENDAR