BEGIN:VCALENDAR
VERSION:2.0
PRODID:-//Découvrir Veules-les-Roses - ECPv6.15.20//NONSGML v1.0//EN
CALSCALE:GREGORIAN
METHOD:PUBLISH
X-ORIGINAL-URL:https://tourisme.veules-les-roses.fr
X-WR-CALDESC:Évènements pour Découvrir Veules-les-Roses
REFRESH-INTERVAL;VALUE=DURATION:PT1H
X-Robots-Tag:noindex
X-PUBLISHED-TTL:PT1H
BEGIN:VTIMEZONE
TZID:Europe/Paris
BEGIN:DAYLIGHT
TZOFFSETFROM:+0100
TZOFFSETTO:+0200
TZNAME:CEST
DTSTART:20220327T010000
END:DAYLIGHT
BEGIN:STANDARD
TZOFFSETFROM:+0200
TZOFFSETTO:+0100
TZNAME:CET
DTSTART:20221030T010000
END:STANDARD
BEGIN:DAYLIGHT
TZOFFSETFROM:+0100
TZOFFSETTO:+0200
TZNAME:CEST
DTSTART:20230326T010000
END:DAYLIGHT
BEGIN:STANDARD
TZOFFSETFROM:+0200
TZOFFSETTO:+0100
TZNAME:CET
DTSTART:20231029T010000
END:STANDARD
BEGIN:DAYLIGHT
TZOFFSETFROM:+0100
TZOFFSETTO:+0200
TZNAME:CEST
DTSTART:20240331T010000
END:DAYLIGHT
BEGIN:STANDARD
TZOFFSETFROM:+0200
TZOFFSETTO:+0100
TZNAME:CET
DTSTART:20241027T010000
END:STANDARD
END:VTIMEZONE
BEGIN:VEVENT
DTSTART;VALUE=DATE:20230607
DTEND;VALUE=DATE:20230614
DTSTAMP:20260424T204333
CREATED:20230601T132016Z
LAST-MODIFIED:20230601T153446Z
UID:5986-1686096000-1686700799@tourisme.veules-les-roses.fr
SUMMARY:Festival du Film Ecossais
DESCRIPTION:
URL:https://tourisme.veules-les-roses.fr/event/festival-du-film-ecossais/
LOCATION:Cinéma Le Rex salle Anaïs Aubert\, Place des Ecossais\, Veules-Les-Roses\, 76980\, France
CATEGORIES:Animations,Expositions
ATTACH;FMTTYPE=image/jpeg:https://tourisme.veules-les-roses.fr/wp-content/uploads/2023/06/banniere_festival_film_ecossais_2023.jpg
ORGANIZER;CN="Cin%C3%A9Objectifs":MAILTO:marie-claire.florence@orange.fr
END:VEVENT
END:VCALENDAR